BEGIN:VCALENDAR
VERSION:2.0
PRODID:-//GAMAV DH - ECPv6.15.18//NONSGML v1.0//EN
CALSCALE:GREGORIAN
METHOD:PUBLISH
X-ORIGINAL-URL:https://www.gamavdh.de
X-WR-CALDESC:Veranstaltungen für GAMAV DH
REFRESH-INTERVAL;VALUE=DURATION:PT1H
X-Robots-Tag:noindex
X-PUBLISHED-TTL:PT1H
BEGIN:VTIMEZONE
TZID:Europe/Berlin
BEGIN:DAYLIGHT
TZOFFSETFROM:+0100
TZOFFSETTO:+0200
TZNAME:CEST
DTSTART:20250330T010000
END:DAYLIGHT
BEGIN:STANDARD
TZOFFSETFROM:+0200
TZOFFSETTO:+0100
TZNAME:CET
DTSTART:20251026T010000
END:STANDARD
BEGIN:DAYLIGHT
TZOFFSETFROM:+0100
TZOFFSETTO:+0200
TZNAME:CEST
DTSTART:20260329T010000
END:DAYLIGHT
BEGIN:STANDARD
TZOFFSETFROM:+0200
TZOFFSETTO:+0100
TZNAME:CET
DTSTART:20261025T010000
END:STANDARD
BEGIN:DAYLIGHT
TZOFFSETFROM:+0100
TZOFFSETTO:+0200
TZNAME:CEST
DTSTART:20270328T010000
END:DAYLIGHT
BEGIN:STANDARD
TZOFFSETFROM:+0200
TZOFFSETTO:+0100
TZNAME:CET
DTSTART:20271031T010000
END:STANDARD
END:VTIMEZONE
BEGIN:VEVENT
DTSTART;TZID=Europe/Berlin:20261130T103000
DTEND;TZID=Europe/Berlin:20261204T130000
DTSTAMP:20260420T052042
CREATED:20251127T172432Z
LAST-MODIFIED:20251222T080835Z
UID:5994-1796034600-1796389200@www.gamavdh.de
SUMMARY:Mitarbeitervertretungsrecht - MVG I
DESCRIPTION:Du wurdest gerade in die Mitarbeitervertretung gewählt\, hast aber das Gefühl\, gar keine Ahnung zu haben\, was da auf dich zukommt und was deine Aufgaben sein werden? Für den ersten Überblick\, die eigene Rollenbestimmung und das Erkennen mitarbeitervertretungsrechtlicher Grundstrukturen ist dieses erste Einführungsseminar konzipiert. Natürlich werden auch allererste Grundzüge des Beteiligungsverfahrens behandelt. \nFolgende Themen werden angesprochen:\n\nMeine neue Rolle als Mitarbeitervertreter:in\nNeu im Amt: Was kommt jetzt auf mich zu?\nWelche Erwartungen haben Kolleg:innen und Arbeitgeber:innen?\nWie funktioniert die Zusammenarbeit im Gremium?\n\nGrundlagen der Mitarbeitervertretungsarbeit\n\nStaatliches und kirchliches Beteiligungsrecht\nTarifvertrag und Dritter Weg\n\nDas System des kirchlichen Beteiligungsrechts\n\nAbgrenzung kollektiven Rechts zum Individualarbeitsrecht\nWie gehe ich richtig mit Gesetzen und Kommentaren um?\nWelche Begriffe und Abkürzungen sollten bekannt sein?\n\nDie persönliche Rechtsstellung von Mitarbeitervertreter:innen\n\nEhrenamt: Was bedeutet das für mich?\nArbeitsbefreiung und Freistellung\nEntgelt während der MAV-Tätigkeit\nSchulung und Schulungsanspruch der Mitarbeitervertretung\nGeheimhaltungs- und Verschwiegenheitspflichten\nbesonderer Kündigungsschutz für Mitarbeitervertreter:innen\n\nOrganisation und Geschäftsführung in der Mitarbeitervertretung\n\nAufgaben und Befugnisse der Mitarbeitervertretungsvorsitzenden\nMAV-Sitzung: Wann ist ein Beschluss wirksam?\nSprechstunden der MAV\nKosten und Sachbedarf der MAV\nExterne Beratung durch Sachverständige und Rechtsanwält:innen\nMitarbeiterversammlungen\ndie Zusammenarbeit mit Arbeitgeber:in\, Gewerkschaften\, anderen Interessenvertretungen und dem Gesamtausschuss\n\nEinführung in die Beteiligungsrechte\n\nInformationsrechte und allgemeine Aufgaben\nkonkrete Mitwirkungs- und Mitbestimmungsrechte im Überblick\n\nReferent:innen: Feuerhahn Rechtsanwälte\n \nSeminargebühren: 1.500 EUR inkl. Vollpension und 4 Übernachtungen\n(davon 200 EUR Übernachtungen\, 112 EUR Verpflegung) \nTermine:\n29.06. bis 03.07.2026 in Mariaspring\nAnmeldeschluss: 30.04.2026 \n03.08. bis 07.08.2026 in Mariaspring\nAnmeldeschluss: 03.06.2026 \n17.08. bis 21.08.2026 in Hofgeismar\nAnmeldeschluss: 18.06.2026 \n07.09. bis 11.09.2026 in Schmitten\nAnmeldeschluss: 09.07.2026 \n30.11. bis 04.12.2026 in Schmitten\nAnmeldeschluss: 01.10.2026 \n\nHier geht`s zum Fortbildungsprogramm und Anmeldeformular 2026\nFortbildungsprogramm und Anmeldeformular \n\nKontakt für Anmeldungen & Rückfragen\nDiakonie Hessen\nGesamtausschuss der MAVen der Diakonie Hessen (GAMAV DH)\nSekretariat Geschäftsstelle\nFrau Annika Backofen\nKölnische Straße 136\n34119 Kassel \nTelefon: 0561-1095-3030\nE-Mail: kontakt(at)gamavdh.de
URL:https://www.gamavdh.de/fortbildung/mitarbeitervertretungsrecht-mvg-i-5/
LOCATION:Martin-Niemöller-Haus\, Am Eichwaldsfeld 3\, Arnoldshain/Schmitten\, 61389
CATEGORIES:Fortbildungen
END:VEVENT
BEGIN:VEVENT
DTSTART;TZID=Europe/Berlin:20261130T103000
DTEND;TZID=Europe/Berlin:20261204T130000
DTSTAMP:20260420T052042
CREATED:20251127T174400Z
LAST-MODIFIED:20260210T123559Z
UID:6014-1796034600-1796389200@www.gamavdh.de
SUMMARY:Arbeitszeit- und Dienstplangestaltung I
DESCRIPTION:AVR.KW / AVR.HN / TVDAH.\nDie Mitbestimmung bei der Festlegung der Arbeitszeit ist das Beteiligungsrecht mit der größten praktischen Bedeutung. Der Verknappung finanzieller Mittel begegnen Einrichtungen mit einer Flexibilisierung der Arbeitseinsätze. \nIn diesem Seminar werden die arbeitsrechtlichen Grundkenntnisse zu den Themen Arbeitszeit und Dienstplan behandelt. \nEuch erwarten insbesondere folgende Themen: \n\nMitbestimmung bei Arbeitszeit und Dienstplanung in MVG.EKD\nArbeitszeitgesetz\, AVR & TV\nGrundzüge der Dienstplangestaltung\nRechtliche Grundlagen der Arbeitszeitbegriffe\nVerteilung der Arbeitszeit – täglich\, monatlich\, jährlich\nUmgang mit Plus- und Minusstunden\nÜbung und Umsetzung anhand praktischer Beispiele\n\nDie Mitarbeitervertretung hat bei der Ausübung ihres Mitbestimmungsrechtes bei der Festlegung von Beginn und Ende der täglichen Arbeitszeit darauf zu achten\, dass die Vereinbarkeit von Familie und Erwerbstätigkeit gefördert wird. Wie das umgesetzt werden kann\, ist auch Inhalt des Seminars. \nReferent:innen: Feuerhahn Rechtsanwälte\n \nSeminargebühren: 1.500 EUR inkl. Vollpension und 4 Übernachtungen\n(davon 200 EUR Übernachtungen\, 112 EUR Verpflegung) \nTermin:\n30.11. bis 04.12.2026 in Schmitten\nAnmeldeschluss: 01.10.2026 \n\nHier geht`s zum Fortbildungsprogramm und Anmeldeformular 2026\nFortbildungsprogramm und Anmeldeformular \n\nKontakt für Anmeldungen & Rückfragen\nDiakonie Hessen\nGesamtausschuss der MAVen der Diakonie Hessen (GAMAV DH)\nSekretariat Geschäftsstelle\nFrau Annika Backofen\nKölnische Straße 136\n34119 Kassel \nTelefon: 0561-1095-3030\nE-Mail: kontakt(at)gamavdh.de
URL:https://www.gamavdh.de/fortbildung/arbeitszeit-und-dienstplangestaltung-i-2/
LOCATION:Ländliche Heimvolkshochschule e.V. Mariaspring\, Rauschenwasser 78\, Bovenden\, 37120
CATEGORIES:Fortbildungen
END:VEVENT
BEGIN:VEVENT
DTSTART;TZID=Europe/Berlin:20261202T103000
DTEND;TZID=Europe/Berlin:20261204T130000
DTSTAMP:20260420T052042
CREATED:20251127T183658Z
LAST-MODIFIED:20251222T081016Z
UID:6031-1796207400-1796389200@www.gamavdh.de
SUMMARY:Konflikte in der MAV
DESCRIPTION:Konfliktkompetenz in der Gremienarbeit stärken – für Mitarbeitende der Mitarbeitendenvertretungen \nEin praxisnahes 3-Tage-Seminar für systemisches\, konstruktives Konfliktmanagement\nKonflikte gehören zum Alltag – gerade in sozialen Einrichtungen\, wo unterschiedliche Interessen und hohe Anforderungen aufeinandertreffen. Dies gilt auch für die Arbeit in den jeweiligen\nGremien der MAVen. Hier treffen oft Meinungen kontrovers aufeinander und entwickeln sich hin\nund wieder zu Konfliktherden\, die entsprechende Reibungsverluste mit sich bringen. Darauf\, in\nsolchen Momenten innerhalb der Gruppe eine kompetente Form der Klärungs- und Handlungskompetenz zu haben\, um damit Konflikte direkt konstruktiv lösen zu können\, zielt das Seminar ab. Es richtet sich an Mitarbeitende von Mitarbeitendenvertretungen\, die ihre Konfliktkompetenz systemisch\, konstruktiv und praxisnah weiterentwickeln möchten.\nIm Mittelpunkt stehen konkrete Werkzeuge und Modelle für ein wirksames Konfliktmanagement\, die innerhalb des\neigenen Gremiums Anwendung finden können. Neben kurzen theoretischen Inputs liegt der Schwerpunkt auf praktischen Übungen\, kollegialem Austausch und der Arbeit an konkreten Fallbeispielen.\nDas dreitägige Seminar bietet Raum für intensive Auseinandersetzung mit dem Thema\, neue Perspektiven und persönliche Weiterentwicklung. Nehmen Sie wertvolle Kompetenzen und Lernerfahrungen mit in Ihren Alltag. \n  \nReferent: Christian Sturhan Systemischer Coach und Supervisor\n \nSeminargebühren 3 Tage (incl. Vollpension und 2 Übernachtungen) 950 €\n(davon 100 € Übernachtungen\, 56 € Verpflegung)  \nTermin:\n02.12. bis 04.12.2026 in Kassel\nAnmeldeschluss: 08.10.2026 \n\nHier geht`s zum Fortbildungsprogramm und Anmeldeformular 2026\nFortbildungsprogramm und Anmeldeformular \n\nKontakt für Anmeldungen & Rückfragen\nDiakonie Hessen\nGesamtausschuss der MAVen der Diakonie Hessen (GAMAV DH)\nSekretariat Geschäftsstelle\nFrau Annika Backofen\nKölnische Straße 136\n34119 Kassel \nTelefon: 0561-1095-3030\nE-Mail: kontakt(at)gamavdh.de
URL:https://www.gamavdh.de/fortbildung/konflikte-in-der-mav/
LOCATION:Sonnenhof „Gästehaus am Herkules“ Kassel\, Krähhahnstraße 8\, Kassel / Bad Wilhelmshöhe\, 34131
END:VEVENT
END:VCALENDAR