BEGIN:VCALENDAR
VERSION:2.0
PRODID:-//GAMAV DH - ECPv6.15.18//NONSGML v1.0//EN
CALSCALE:GREGORIAN
METHOD:PUBLISH
X-ORIGINAL-URL:https://www.gamavdh.de
X-WR-CALDESC:Veranstaltungen für GAMAV DH
REFRESH-INTERVAL;VALUE=DURATION:PT1H
X-Robots-Tag:noindex
X-PUBLISHED-TTL:PT1H
BEGIN:VTIMEZONE
TZID:Europe/Berlin
BEGIN:DAYLIGHT
TZOFFSETFROM:+0100
TZOFFSETTO:+0200
TZNAME:CEST
DTSTART:20250330T010000
END:DAYLIGHT
BEGIN:STANDARD
TZOFFSETFROM:+0200
TZOFFSETTO:+0100
TZNAME:CET
DTSTART:20251026T010000
END:STANDARD
BEGIN:DAYLIGHT
TZOFFSETFROM:+0100
TZOFFSETTO:+0200
TZNAME:CEST
DTSTART:20260329T010000
END:DAYLIGHT
BEGIN:STANDARD
TZOFFSETFROM:+0200
TZOFFSETTO:+0100
TZNAME:CET
DTSTART:20261025T010000
END:STANDARD
BEGIN:DAYLIGHT
TZOFFSETFROM:+0100
TZOFFSETTO:+0200
TZNAME:CEST
DTSTART:20270328T010000
END:DAYLIGHT
BEGIN:STANDARD
TZOFFSETFROM:+0200
TZOFFSETTO:+0100
TZNAME:CET
DTSTART:20271031T010000
END:STANDARD
END:VTIMEZONE
BEGIN:VEVENT
DTSTART;TZID=Europe/Berlin:20260803T103000
DTEND;TZID=Europe/Berlin:20260807T130000
DTSTAMP:20260419T224637
CREATED:20251127T171955Z
LAST-MODIFIED:20251222T074920Z
UID:5988-1785753000-1786107600@www.gamavdh.de
SUMMARY:Mitarbeitervertretungsrecht - MVG I
DESCRIPTION:Du wurdest gerade in die Mitarbeitervertretung gewählt\, hast aber das Gefühl\, gar keine Ahnung zu haben\, was da auf dich zukommt und was deine Aufgaben sein werden? Für den ersten Überblick\, die eigene Rollenbestimmung und das Erkennen mitarbeitervertretungsrechtlicher Grundstrukturen ist dieses erste Einführungsseminar konzipiert. Natürlich werden auch allererste Grundzüge des Beteiligungsverfahrens behandelt. \nFolgende Themen werden angesprochen:\n\nMeine neue Rolle als Mitarbeitervertreter:in\nNeu im Amt: Was kommt jetzt auf mich zu?\nWelche Erwartungen haben Kolleg:innen und Arbeitgeber:innen?\nWie funktioniert die Zusammenarbeit im Gremium?\n\nGrundlagen der Mitarbeitervertretungsarbeit\n\nStaatliches und kirchliches Beteiligungsrecht\nTarifvertrag und Dritter Weg\n\nDas System des kirchlichen Beteiligungsrechts\n\nAbgrenzung kollektiven Rechts zum Individualarbeitsrecht\nWie gehe ich richtig mit Gesetzen und Kommentaren um?\nWelche Begriffe und Abkürzungen sollten bekannt sein?\n\nDie persönliche Rechtsstellung von Mitarbeitervertreter:innen\n\nEhrenamt: Was bedeutet das für mich?\nArbeitsbefreiung und Freistellung\nEntgelt während der MAV-Tätigkeit\nSchulung und Schulungsanspruch der Mitarbeitervertretung\nGeheimhaltungs- und Verschwiegenheitspflichten\nbesonderer Kündigungsschutz für Mitarbeitervertreter:innen\n\nOrganisation und Geschäftsführung in der Mitarbeitervertretung\n\nAufgaben und Befugnisse der Mitarbeitervertretungsvorsitzenden\nMAV-Sitzung: Wann ist ein Beschluss wirksam?\nSprechstunden der MAV\nKosten und Sachbedarf der MAV\nExterne Beratung durch Sachverständige und Rechtsanwält:innen\nMitarbeiterversammlungen\ndie Zusammenarbeit mit Arbeitgeber:in\, Gewerkschaften\, anderen Interessenvertretungen und dem Gesamtausschuss\n\nEinführung in die Beteiligungsrechte\n\nInformationsrechte und allgemeine Aufgaben\nkonkrete Mitwirkungs- und Mitbestimmungsrechte im Überblick\n\nReferent:innen: Feuerhahn Rechtsanwälte\n \nSeminargebühren: 1.500 EUR inkl. Vollpension und 4 Übernachtungen\n(davon 200 EUR Übernachtungen\, 112 EUR Verpflegung) \nTermine:\n29.06. bis 03.07.2026 in Mariaspring\nAnmeldeschluss: 30.04.2026 \n03.08. bis 07.08.2026 in Mariaspring\nAnmeldeschluss: 03.06.2026 \n17.08. bis 21.08.2026 in Hofgeismar\nAnmeldeschluss: 18.06.2026 \n07.09. bis 11.09.2026 in Schmitten\nAnmeldeschluss: 09.07.2026 \n30.11. bis 04.12.2026 in Schmitten\nAnmeldeschluss: 01.10.2026 \n\nHier geht`s zum Fortbildungsprogramm und Anmeldeformular 2026\nFortbildungsprogramm und Anmeldeformular \n\nKontakt für Anmeldungen & Rückfragen\nDiakonie Hessen\nGesamtausschuss der MAVen der Diakonie Hessen (GAMAV DH)\nSekretariat Geschäftsstelle\nFrau Annika Backofen\nKölnische Straße 136\n34119 Kassel \nTelefon: 0561-1095-3030\nE-Mail: kontakt(at)gamavdh.de
URL:https://www.gamavdh.de/fortbildung/mitarbeitervertretungsrecht-mvg-i/
LOCATION:Ländliche Heimvolkshochschule e.V. Mariaspring\, Rauschenwasser 78\, Bovenden\, 37120
CATEGORIES:Fortbildungen
END:VEVENT
BEGIN:VEVENT
DTSTART;TZID=Europe/Berlin:20260803T103000
DTEND;TZID=Europe/Berlin:20260807T130000
DTSTAMP:20260419T224637
CREATED:20251127T173603Z
LAST-MODIFIED:20251222T075600Z
UID:6005-1785753000-1786107600@www.gamavdh.de
SUMMARY:Mitarbeitervertretungsrecht - MVG II
DESCRIPTION:Rechte nutzen – Arbeitsbedingungen aktiv gestalten!\nDer Einstieg ins MVG ist geschafft. Jetzt geht es um die Kernbereiche der Mitbestimmung in sozialen Angelegenheiten. In diesem Seminar erfährst Du\, wie die MAV die Arbeitsbedingungen in Eurem Betrieb mitgestalten kann. Vom betrieblichen Zusammenleben über die Arbeitszeiten bis hin zur technischen Überwachung: Hier kommt es immer auf die MAV an – ohne ihre Zustimmung kann der:die Arbeitgeber:in nichts unternehmen. Schritt für Schritt lernst Du\, wie Rechte und gute Ideen durchgesetzt werden können: Mit den Mitteln überzeugender Kommunikation\, mit klar formulierten Dienstvereinbarungen\, aber auch mit der betrieblichen Einigungsstelle. \nDas System der sozialen Angelegenheiten\n\nWann ist die MAV gefragt? Grundlagen und allgemeine Voraussetzungen\nGesetze und weitere Regelungen als Grenzen der Mitbestimmung\nBedeutung der Informationsrechte nach MVG\nVerfahren der Mitbestimmung und Mitberatung\n\nSoziale Angelegenheiten im Detail\n\nOrdnung des Betriebs: Regeln für das betriebliche Zusammenleben\nVerteilung\, Verkürzung oder Verlängerung der Arbeitszeit\ngerechte und ausgeglichene Urlaubsregelungen\nSchutz vor technischer Überwachung der Mitarbeiter:innen\nArbeits- und Gesundheitsschutz\nErrichtung und Ausgestaltung von Sozialeinrichtungen\n\nDurchsetzung der Beteiligungsrechte der Mitarbeitervertretung\n\nDurchblick beim Einigungsstellenverfahren\nVerfahren vor dem Kirchengericht\n\nMöglichkeiten und Grenzen der Dienstvereinbarung\nFit für die Praxis: Übungen und Fallbeispiele  \nReferent:innen: Feuerhahn Rechtsanwälte  \nSeminargebühren: 1.500 EUR inkl. Vollpension und 4 Übernachtungen\n(davon 200 EUR Übernachtungen\, 112 EUR Verpflegung) \nTermine:\n03.08. bis 07.08.2026 in Mariaspring\nAnmeldeschluss: 03.06.2026 \n12.10. bis 16.10.2026 in Hofgeismar\nAnmeldeschluss:13.08.2026 \n\nHier geht`s zum Fortbildungsprogramm und Anmeldeformular 2026\nFortbildungsprogramm und Anmeldeformular \n\nKontakt für Anmeldungen & Rückfragen\nDiakonie Hessen\nGesamtausschuss der MAVen der Diakonie Hessen (GAMAV DH)\nSekretariat Geschäftsstelle\nFrau Annika Backofen\nKölnische Straße 136\n34119 Kassel \nTelefon: 0561-1095-3030\nE-Mail: kontakt(at)gamavdh.de \n  \n 
URL:https://www.gamavdh.de/fortbildung/mitarbeitervertretungsrecht-mvg-ii-3/
LOCATION:Ländliche Heimvolkshochschule e.V. Mariaspring\, Rauschenwasser 78\, Bovenden\, 37120
CATEGORIES:Fortbildungen
END:VEVENT
BEGIN:VEVENT
DTSTART;TZID=Europe/Berlin:20260817T103000
DTEND;TZID=Europe/Berlin:20260821T130000
DTSTAMP:20260419T224637
CREATED:20251127T172129Z
LAST-MODIFIED:20251222T075304Z
UID:5990-1786962600-1787317200@www.gamavdh.de
SUMMARY:Mitarbeitervertretungsrecht - MVG I
DESCRIPTION:Du wurdest gerade in die Mitarbeitervertretung gewählt\, hast aber das Gefühl\, gar keine Ahnung zu haben\, was da auf dich zukommt und was deine Aufgaben sein werden? Für den ersten Überblick\, die eigene Rollenbestimmung und das Erkennen mitarbeitervertretungsrechtlicher Grundstrukturen ist dieses erste Einführungsseminar konzipiert. Natürlich werden auch allererste Grundzüge des Beteiligungsverfahrens behandelt. \nFolgende Themen werden angesprochen:\n\nMeine neue Rolle als Mitarbeitervertreter:in\nNeu im Amt: Was kommt jetzt auf mich zu?\nWelche Erwartungen haben Kolleg:innen und Arbeitgeber:innen?\nWie funktioniert die Zusammenarbeit im Gremium?\n\nGrundlagen der Mitarbeitervertretungsarbeit\n\nStaatliches und kirchliches Beteiligungsrecht\nTarifvertrag und Dritter Weg\n\nDas System des kirchlichen Beteiligungsrechts\n\nAbgrenzung kollektiven Rechts zum Individualarbeitsrecht\nWie gehe ich richtig mit Gesetzen und Kommentaren um?\nWelche Begriffe und Abkürzungen sollten bekannt sein?\n\nDie persönliche Rechtsstellung von Mitarbeitervertreter:innen\n\nEhrenamt: Was bedeutet das für mich?\nArbeitsbefreiung und Freistellung\nEntgelt während der MAV-Tätigkeit\nSchulung und Schulungsanspruch der Mitarbeitervertretung\nGeheimhaltungs- und Verschwiegenheitspflichten\nbesonderer Kündigungsschutz für Mitarbeitervertreter:innen\n\nOrganisation und Geschäftsführung in der Mitarbeitervertretung\n\nAufgaben und Befugnisse der Mitarbeitervertretungsvorsitzenden\nMAV-Sitzung: Wann ist ein Beschluss wirksam?\nSprechstunden der MAV\nKosten und Sachbedarf der MAV\nExterne Beratung durch Sachverständige und Rechtsanwält:innen\nMitarbeiterversammlungen\ndie Zusammenarbeit mit Arbeitgeber:in\, Gewerkschaften\, anderen Interessenvertretungen und dem Gesamtausschuss\n\nEinführung in die Beteiligungsrechte\n\nInformationsrechte und allgemeine Aufgaben\nkonkrete Mitwirkungs- und Mitbestimmungsrechte im Überblick\n\nReferent:innen: Feuerhahn Rechtsanwälte\n \nSeminargebühren: 1.500 EUR inkl. Vollpension und 4 Übernachtungen\n(davon 200 EUR Übernachtungen\, 112 EUR Verpflegung) \nTermine:\n29.06. bis 03.07.2026 in Mariaspring\nAnmeldeschluss: 30.04.2026 \n03.08. bis 07.08.2026 in Mariaspring\nAnmeldeschluss: 03.06.2026 \n17.08. bis 21.08.2026 in Hofgeismar\nAnmeldeschluss: 18.06.2026 \n07.09. bis 11.09.2026 in Schmitten\nAnmeldeschluss: 09.07.2026 \n30.11. bis 04.12.2026 in Schmitten\nAnmeldeschluss: 01.10.2026 \n\nHier geht`s zum Fortbildungsprogramm und Anmeldeformular 2026\nFortbildungsprogramm und Anmeldeformular \n\nKontakt für Anmeldungen & Rückfragen\nDiakonie Hessen\nGesamtausschuss der MAVen der Diakonie Hessen (GAMAV DH)\nSekretariat Geschäftsstelle\nFrau Annika Backofen\nKölnische Straße 136\n34119 Kassel \nTelefon: 0561-1095-3030\nE-Mail: kontakt(at)gamavdh.de
URL:https://www.gamavdh.de/fortbildung/mitarbeitervertretungsrecht-mvg-i-2/
LOCATION:Evangelische Tagungsstätte Hofgeismar im VCH\, Gesundbrunnen 8\, Hofgeismar\, 34369
CATEGORIES:Fortbildungen
END:VEVENT
BEGIN:VEVENT
DTSTART;TZID=Europe/Berlin:20260817T103000
DTEND;TZID=Europe/Berlin:20260821T130000
DTSTAMP:20260419T224637
CREATED:20251127T174134Z
LAST-MODIFIED:20260327T093715Z
UID:6011-1786962600-1787317200@www.gamavdh.de
SUMMARY:Mitarbeitervertretungsrecht - MVG III
DESCRIPTION:Für sichere Jobs: Personelle und wirtschaftliche Angelegenheiten.\nMit diesem Seminar wird das Grundwissen im Mitarbeitervertretungsrecht komplett. Zum Tagesgeschäft der MAV gehören Einstellungen\, Versetzungen und leider auch Kündigungen. Damit Du hier schnell und richtig handeln kannst\, steht im dritten und letzten Teil der Grundlagenreihe die Mitbestimmung in personellen Angelegenheiten im Mittelpunkt. Da Personalentscheidungen oft auch einen finanziellen Hintergrund haben\, lernt Ihr Handlungsmöglichkeiten in wirtschaftlichen Angelegenheiten kennen. Das hilft\, die Arbeitsplätze der Kolleg:innen sicherer zu machen. \nBeteiligungsrechte in allgemeinen personellen Fragen\nInitiativen zur Beschäftigungssicherung ergreifen\n\nkorrekte Personalfragebögen und Beurteilungsgrundsätze\npersonelle Auswahlrichtlinien\ninterne Stellenausschreibungen\nMitbestimmung bei der Aus-\, Fort- und Weiterbildung\n\nBeteiligungsrechte bei personellen Einzelmaßnahmen\n\nEinstellungen und Versetzungen richtig beurteilen\nEin- und Umgruppierungen bewerten\nGründe für die Zustimmungsverweigerung\nRechte bei Eilmaßnahmen des Arbeitgebers\n\nBeteiligungsrechte bei der Beendigung von Arbeitsverhältnissen\n\nordentliche und außerordentliche Kündigung\nSonderfall: Änderungskündigung\nallgemeiner Kündigungsschutz\nKündigungsschutz für besondere Personengruppen\nVerfahren der Mitberatung und Mitbestimmung bei Kündigungen\n\nBeteiligungsrechte in wirtschaftlichen Angelegenheiten\n\nWas sind wirtschaftliche Angelegenheiten?\nUnterrichtungspflichten des Arbeitgebers\nDer Wirtschaftsausschuss\n\nBetriebsänderungen und Outsourcing\n\nWas ist eine Betriebsänderung?\nWas bedeutet Outsourcing?\nWelche Handlungsmöglichkeiten hat die MAV?\n\nReferent:innen: Feuerhahn Rechtsanwälte\n \nSeminargebühren: 1.500 EUR inkl. Vollpension und 4 Übernachtungen\n(davon 200 EUR Übernachtungen\, 112 EUR Verpflegung) \nTermine:\n17.08. bis 21.08.2026 in Hofgeismar\nAnmeldeschluss:18.06.2026 \n\nHier geht`s zum Fortbildungsprogramm und Anmeldeformular 2026\nFortbildungsprogramm und Anmeldeformular \n\nKontakt für Anmeldungen & Rückfragen\nDiakonie Hessen\nGesamtausschuss der MAVen der Diakonie Hessen (GAMAV DH)\nSekretariat Geschäftsstelle\nFrau Annika Backofen\nKölnische Straße 136\n34119 Kassel \nTelefon: 0561-1095-3030\nE-Mail: kontakt(at)gamavdh.de
URL:https://www.gamavdh.de/fortbildung/mitarbeitervertretungsrecht-mvg-iii/
LOCATION:Evangelische Tagungsstätte Hofgeismar im VCH\, Gesundbrunnen 8\, Hofgeismar\, 34369
CATEGORIES:Fortbildungen
END:VEVENT
BEGIN:VEVENT
DTSTART;TZID=Europe/Berlin:20260824T103000
DTEND;TZID=Europe/Berlin:20260828T130000
DTSTAMP:20260419T224637
CREATED:20241019T141706Z
LAST-MODIFIED:20251222T080319Z
UID:5594-1787567400-1787922000@www.gamavdh.de
SUMMARY:AVR.KW Grundlagen
DESCRIPTION:Fortbildungsangebot für die MAVen in Kurhessen-Waldeck!\nDas Seminar zu den Arbeitsvertragsrichtlinien für das Diakonische Werk Kurhessen-Waldeck (AVR.KW) richtet sich vor allem an neue MAV-Mitglieder\, die sich ein Grundwissen im Arbeitsrecht aneignen wollen\, aber auch an solche\, die ihr Wissen auffrischen möchten. \nDas Seminar befasst sich intensiv mit der AVR.KW und bezieht neueste Rechtsprechung mit ein. \nAktuelle Veränderungen aus dem Anwendungsgesetz des Diakonischen Werkes Hessen werden mit einbezogen. \nSeminarinhalte sind unter anderem:\n\nGrundlagen des kirchlichen Arbeitsrechts (Was sind AVR?)\nSystematik und Aufbau der AVR.KW\nRegelungen zur Eingruppierung\, zur Arbeitszeit\, zum Urlaub etc.\nbetriebliche Entgeltabsenkungs-Instrumente\nWo gibt es Gestaltungsspielräume durch Dienstvereinbarungen Abweichendes zu regeln?\n\nZielgruppe:\nAlle neuen MAVler:innen\nWünschenswert wäre der vorhergehende Besuch eines MVG I-Seminares für das „Basiswissen“!\n \nReferent:innen: Feuerhahn Rechtsanwälte\n \nSeminargebühren: 1.500 EUR inkl. Vollpension mit 4 Übernachtungen\n(davon 200 EUR Übernachtungen\, 112 EUR Verpflegung) \nTermin: \n24.08. bis 28.08.2026 in Bovenden\nAnmeldeschluss: 25.06.2026 \n\nHier geht`s zum Fortbildungsprogramm und Anmeldeformular 2026\nFortbildungsprogramm und Anmeldeformular \n\nKontakt für Anmeldungen & Rückfragen\nDiakonie Hessen\nGesamtausschuss der MAVen der Diakonie Hessen (GAMAV DH)\nSekretariat Geschäftsstelle\nFrau Annika Backofen\nKölnische Straße 136\n34119 Kassel \nTelefon: 0561-1095-3030\nE-Mail: kontakt(at)gamavdh.de
URL:https://www.gamavdh.de/fortbildung/avr-kw-grundlagen/
LOCATION:Ländliche Heimvolkshochschule e.V. Mariaspring\, Rauschenwasser 78\, Bovenden\, 37120
CATEGORIES:Fortbildungen
END:VEVENT
END:VCALENDAR