BEGIN:VCALENDAR
VERSION:2.0
PRODID:-//GAMAV DH - ECPv6.15.18//NONSGML v1.0//EN
CALSCALE:GREGORIAN
METHOD:PUBLISH
X-WR-CALNAME:GAMAV DH
X-ORIGINAL-URL:https://www.gamavdh.de
X-WR-CALDESC:Veranstaltungen für GAMAV DH
REFRESH-INTERVAL;VALUE=DURATION:PT1H
X-Robots-Tag:noindex
X-PUBLISHED-TTL:PT1H
BEGIN:VTIMEZONE
TZID:Europe/Berlin
BEGIN:DAYLIGHT
TZOFFSETFROM:+0100
TZOFFSETTO:+0200
TZNAME:CEST
DTSTART:20240331T010000
END:DAYLIGHT
BEGIN:STANDARD
TZOFFSETFROM:+0200
TZOFFSETTO:+0100
TZNAME:CET
DTSTART:20241027T010000
END:STANDARD
BEGIN:DAYLIGHT
TZOFFSETFROM:+0100
TZOFFSETTO:+0200
TZNAME:CEST
DTSTART:20250330T010000
END:DAYLIGHT
BEGIN:STANDARD
TZOFFSETFROM:+0200
TZOFFSETTO:+0100
TZNAME:CET
DTSTART:20251026T010000
END:STANDARD
BEGIN:DAYLIGHT
TZOFFSETFROM:+0100
TZOFFSETTO:+0200
TZNAME:CEST
DTSTART:20260329T010000
END:DAYLIGHT
BEGIN:STANDARD
TZOFFSETFROM:+0200
TZOFFSETTO:+0100
TZNAME:CET
DTSTART:20261025T010000
END:STANDARD
END:VTIMEZONE
BEGIN:VEVENT
DTSTART;TZID=Europe/Berlin:20251201T103000
DTEND;TZID=Europe/Berlin:20251203T160000
DTSTAMP:20260420T002823
CREATED:20241020T102421Z
LAST-MODIFIED:20251128T064553Z
UID:5667-1764585000-1764777600@www.gamavdh.de
SUMMARY:Wieder im Programm! Mobbing am Arbeitsplatz
DESCRIPTION:Erkennen\, reagieren\, verhindern.\nIn Deutschland werden im Schnitt etwa drei von einhundert Mitarbeitern gemobbt. Die Auswirkungen für die Betroffenen sind sehr vielfältig und können sich in persönlichem Leistungsabfall\, Demotivation und entstehenden Krankheiten niederschlagen. Folgen sind oftmals hohe Ausfallquoten\, Belastungen der Teamsituation und qualitative Einbußen in den Arbeitsergebnissen. \nIn dem dreitägigen Seminar wollen wir uns mit dem Thema aus verschiedenen Perspektiven auseinandersetzen. Zunächst geht es darum\, den Begriff Mobbing zu klären und dafür zu sensibilisieren\, wie Mobbingprozesse im Alltag identifiziert werden können. Weitere Themen\, die in einer Mischung aus Input\, praktischen Übungen und Reflexion folgen\, sind: \n\nWie unterscheiden sich Konflikte und Mobbing?\nWas sind vorbeugende Maßnahmen gegen Mobbing?\nWelche Interventionsmöglichkeiten habe ich in einem Mobbingfall?\n\nDie „Diagnose“ von Mobbing?\n\nWelche Rollen gibt es in solchen Situationen / welche Motive?\nDie juristische Einschätzung von Mobbing.\nWelche Verfahren gibt es bereits im Unternehmen?\n\nZiel des Seminars ist es\, die Fähigkeit zu erhöhen\, Mobbing proaktiv zu vermeiden\, Mobbing zu erkennen und im Ernstfall handlungsfähig zu bleiben. \nReferent: Christian Sturhan\n \nSeminargebühren: 950 EUR inkl. Vollpension und 2 Übernachtungen\n(davon 100 EUR Übernachtungen\, 56 EUR Verpflegung) \nTermin:\n01.12. – 03.12.2025 in Kassel / Anmeldeschluss: 02.10.2025\n \n\nFortbildungsprogramm und Anmeldeformular 2025 zum Download\nDas komplette Fortbildungsprogramm 2025 (inkl. Anmeldeformular zum bequemen Ausfüllen am Monitor und vieler weiterer wichtiger Informationen) als PDF-Dokument zum Download (Dateigröße: 3 MB):\nhttps://www.gamavdh.de/wp-content/uploads/Fortbildungskatalog_GAMAV-DH_2025.pdf \nDas reine Anmeldeformular 2025 zum bequemen Ausfüllen am Monitor als PDF-Dokument zum Download (Dateigröße: 568 KB):\nhttps://www.gamavdh.de/wp-content/uploads/Anmeldeformular-Fortbildungen_GAMAV-DH_2025.pdf \nDie Fortbildungen 2025 in der Jahresübersicht als PDF-Dokument zum Download (Dateigröße: 732 KB):\nhttps://www.gamavdh.de/wp-content/uploads/Fortbildungskalender_GAMAV-DH_2025.pdf \n\nKontakt für Anmeldungen & Rückfragen\nDiakonie Hessen\nGesamtausschuss der MAVen der Diakonie Hessen (GAMAV DH)\nSekretariat Geschäftsstelle\nFrau Annika Backofen\nKölnische Straße 136\n34119 Kassel \nTelefon: 0561-1095-3030\nE-Mail: kontakt(at)gamavdh.de
URL:https://www.gamavdh.de/fortbildung/wieder-im-programm-mobbing-am-arbeitsplatz/
LOCATION:Sonnenhof „Gästehaus am Herkules“ Kassel\, Krähhahnstraße 8\, Kassel / Bad Wilhelmshöhe\, 34131
CATEGORIES:Fortbildungen
END:VEVENT
BEGIN:VEVENT
DTSTART;TZID=Europe/Berlin:20251211T093000
DTEND;TZID=Europe/Berlin:20251211T170000
DTSTAMP:20260420T002823
CREATED:20251127T170528Z
LAST-MODIFIED:20251128T064438Z
UID:5983-1765445400-1765472400@www.gamavdh.de
SUMMARY:Wahlvorstandsschulung
DESCRIPTION:Mitarbeitendenvertretung\, Jugend- und Auszubildendenvertretung und Vertrauensperson der schwerbehinderten Arbeiternehmer:innen werden bis Ende April 2026 neu gewählt. Die Wahlen 2026 stehen quasi vor der Tür!\nWir\, der GAMAV DH bieten\, wie vor den Wahlen 2022\, Tagesseminare für MAVen und Wahlvorstände an. Der Zeitkorridor für die Wahlen liegt zwischen 01.01.2026 und 30.04.2026. Die amtierende MAV behält ihr Mandat bis mindestens 30.04.2026\, bei Verzögerungen im Wahlablauf kann sie bis maximal 31.10.26 übergangsweise die Geschäfte der MAV weiterführen. In Einrichtungen mit 15 – 100 Mitarbeitenden kann im vereinfachten Wahlverfahren gewählt werden – muss aber nicht. In einer Mitarbeiterversammlung\, die als Wahlversammlung eingeladen und vorbereitet wurde (siehe Wahlordnung §12 zu finden auf der Homepage: https://www.gamavdh.de) kann die Versammlung beschließen\, dass das vereinfachte Verfahren nicht durchgeführt wird. In diesem Fall beruft die MAV einen Wahlvorstand (siehe Wahlordnung §2)\, der die Wahl dann vorbereitet und durchführt. Die Entscheidung\, wie in Einrichtungen bis\n100 Beschäftigte gewählt wird liegt somit bei den Beschäftigten selbst. \nDie MAVen sollten sich schon im Vorfeld kundig machen und ggf. auch schulen\, damit die Wahlen gesetzeskonform und möglichst\nreibungslos durchgeführt werden können. Wir möchten wegen aktueller Anfragen folgendes zur Anmeldung nur für diese Schulungen ergänzen: Ihr könnt und solltet schon jetzt Plätze für Eure Wahlvorstände anmelden\, auch wenn\nnoch nicht genau feststeht\, welche Personen das sein werden; endgültig werden sie ja erst bis 30.11.2025 durch die MAV bestimmt.\nDas Anmeldeformular findet ihr auf Seite 35. Wir bitten Euch um baldige Rückmeldung. Es würde uns bei der Planung der Seminare sehr helfen\, wenn wir frühzeitig die Anzahl der Teilnehmer:innen kennen\, da die Seminare auf 25 Personen begrenzt\nsind. Gemäß § 13 (5) MVG.EKD haben Wahlvorstände für Schulungen Anspruch auf bezahlte Freistellung von bis zu zwei Arbeitstagen. Es dürfte also in allen Einrichtungen über 100 Beschäftigte kein Problem sein\, für 3 Wahlvorstände (und vielleicht auch für jemanden von der MAV) die Anmeldungen vorzunehmen. Unterlagen und offene Word-Dateien als Vorlagen für Wahlausschreiben\, Einladungen\, Protokolle\, Briefwahlverfahren etc. findet ihr auf unserer Homepage (https://www.gamavdh.de/arbeitsrecht/mav-wahl/)\nDer Teilnahmebeitrag von 250 € beinhaltet Kosten für den Tagungsort\, sowie Tagungsverpflegung/-getränke für die Teilnehmer:innen; die Reisekosten sind mit den Einrichtungen separat abzurechnen. \nDonnerstag\, 11.12.2025\nAnreise: ab 09.30 Uhr\nBeginn: 10:00 Uhr\nEnde: ca. 17.00 Uhr\nReferenten: Rechtsanwaltskanzlei Feuerhahn\nKosten: 250 €\nOrt: ECKD\nWilhelmshöher Allee 256\, 34119 Kassel\nAnmeldeschluss: 31.10.2025 \n\nFortbildungsprogramm und Anmeldeformular 2025 zum Download\n\nFortbildungsprogramm 2026 zum Download\nDas komplette Fortbildungsprogramm 2026 (inkl. Anmeldeformular zum bequemen Ausfüllen am Monitor und vieler weiterer wichtiger Informationen) als PDF-Dokument zum Download (Dateigröße: 4 MB): \n\nFortbildungskatalog 2026\n\nAnmeldeformular 2026 zum Download\nDas reine Anmeldeformular zum bequemen Ausfüllen am Monitor (setzt Adobe Acrobat Reader voraus!) als PDF-Dokument zum Download (Dateigröße: 413 KB): \n\nAnmeldeformular 2026\n\n\n\nKontakt für Anmeldungen & Rückfragen\nDiakonie Hessen\nGesamtausschuss der MAVen der Diakonie Hessen (GAMAV DH)\nSekretariat Geschäftsstelle\nFrau Annika Backofen\nKölnische Straße 136\n34119 Kassel \nTelefon: 0561-1095-3030\nE-Mail: kontakt(at)gamavdh.de
URL:https://www.gamavdh.de/fortbildung/wahlvorstandsschulung-5/
LOCATION:ECKD Kassel\, Wilhelmshöher Allee 256\, Kassel\, Hessen\, 34119
END:VEVENT
END:VCALENDAR