BEGIN:VCALENDAR
VERSION:2.0
PRODID:-//GAMAV DH - ECPv6.15.18//NONSGML v1.0//EN
CALSCALE:GREGORIAN
METHOD:PUBLISH
X-WR-CALNAME:GAMAV DH
X-ORIGINAL-URL:https://www.gamavdh.de
X-WR-CALDESC:Veranstaltungen für GAMAV DH
REFRESH-INTERVAL;VALUE=DURATION:PT1H
X-Robots-Tag:noindex
X-PUBLISHED-TTL:PT1H
BEGIN:VTIMEZONE
TZID:Europe/Berlin
BEGIN:DAYLIGHT
TZOFFSETFROM:+0100
TZOFFSETTO:+0200
TZNAME:CEST
DTSTART:20240331T010000
END:DAYLIGHT
BEGIN:STANDARD
TZOFFSETFROM:+0200
TZOFFSETTO:+0100
TZNAME:CET
DTSTART:20241027T010000
END:STANDARD
BEGIN:DAYLIGHT
TZOFFSETFROM:+0100
TZOFFSETTO:+0200
TZNAME:CEST
DTSTART:20250330T010000
END:DAYLIGHT
BEGIN:STANDARD
TZOFFSETFROM:+0200
TZOFFSETTO:+0100
TZNAME:CET
DTSTART:20251026T010000
END:STANDARD
BEGIN:DAYLIGHT
TZOFFSETFROM:+0100
TZOFFSETTO:+0200
TZNAME:CEST
DTSTART:20260329T010000
END:DAYLIGHT
BEGIN:STANDARD
TZOFFSETFROM:+0200
TZOFFSETTO:+0100
TZNAME:CET
DTSTART:20261025T010000
END:STANDARD
END:VTIMEZONE
BEGIN:VEVENT
DTSTART;TZID=Europe/Berlin:20251020T103000
DTEND;TZID=Europe/Berlin:20251024T130000
DTSTAMP:20260420T033155
CREATED:20241019T135849Z
LAST-MODIFIED:20250117T110649Z
UID:5587-1760956200-1761310800@www.gamavdh.de
SUMMARY:Mitarbeitervertretungsrecht - MVG III
DESCRIPTION:Für sichere Jobs: Personelle und wirtschaftliche Angelegenheiten.\nMit diesem Seminar wird das Grundwissen im Mitarbeitervertretungsrecht komplett. Zum Tagesgeschäft der MAV gehören Einstellungen\, Versetzungen und leider auch Kündigungen. Damit Du hier schnell und richtig handeln kannst\, steht im dritten und letzten Teil der Grundlagenreihe die Mitbestimmung in personellen Angelegenheiten im Mittelpunkt. Da Personalentscheidungen oft auch einen finanziellen Hintergrund haben\, lernt Ihr Handlungsmöglichkeiten in wirtschaftlichen Angelegenheiten kennen. Das hilft\, die Arbeitsplätze der Kolleg:innen sicherer zu machen. \nBeteiligungsrechte in allgemeinen personellen Fragen\nInitiativen zur Beschäftigungssicherung ergreifen\n\nkorrekte Personalfragebögen und Beurteilungsgrundsätze\npersonelle Auswahlrichtlinien\ninterne Stellenausschreibungen\nMitbestimmung bei der Aus-\, Fort- und Weiterbildung\n\nBeteiligungsrechte bei personellen Einzelmaßnahmen\n\nEinstellungen und Versetzungen richtig beurteilen\nEin- und Umgruppierungen bewerten\nGründe für die Zustimmungsverweigerung\nRechte bei Eilmaßnahmen des Arbeitgebers\n\nBeteiligungsrechte bei der Beendigung von Arbeitsverhältnissen\n\nordentliche und außerordentliche Kündigung\nSonderfall: Änderungskündigung\nallgemeiner Kündigungsschutz\nKündigungsschutz für besondere Personengruppen\nVerfahren der Mitberatung und Mitbestimmung bei Kündigungen\n\nBeteiligungsrechte in wirtschaftlichen Angelegenheiten\n\nWas sind wirtschaftliche Angelegenheiten?\nUnterrichtungspflichten des Arbeitgebers\nDer Wirtschaftsausschuss\n\nBetriebsänderungen und Outsourcing\n\nWas ist eine Betriebsänderung?\nWas bedeutet Outsourcing?\nWelche Handlungsmöglichkeiten hat die MAV?\n\nReferent:innen: Feuerhahn Rechtsanwälte\n \nSeminargebühren: 1.500 EUR inkl. Vollpension und 4 Übernachtungen\n(davon 200 EUR Übernachtungen\, 112 EUR Verpflegung) \nTermine:\n17.03. – 21.03.2025 in Schmitten / Ausgebucht\n25.08. – 29.08.2025 in Schmitten / Anmeldeschluss: 26.06.2025\n20.10. – 24.10.2025 in Bovenden / Anmeldeschluss: 21.08.2025 \n\nFortbildungsprogramm und Anmeldeformular 2025 zum Download\nDas komplette Fortbildungsprogramm 2025 (inkl. Anmeldeformular zum bequemen Ausfüllen am Monitor und vieler weiterer wichtiger Informationen) als PDF-Dokument zum Download (Dateigröße: 3 MB):\nhttps://www.gamavdh.de/wp-content/uploads/Fortbildungskatalog_GAMAV-DH_2025.pdf \nDas reine Anmeldeformular 2025 zum bequemen Ausfüllen am Monitor als PDF-Dokument zum Download (Dateigröße: 568 KB):\nhttps://www.gamavdh.de/wp-content/uploads/Anmeldeformular-Fortbildungen_GAMAV-DH_2025.pdf \nDie Fortbildungen 2025 in der Jahresübersicht als PDF-Dokument zum Download (Dateigröße: 732 KB):\nhttps://www.gamavdh.de/wp-content/uploads/Fortbildungskalender_GAMAV-DH_2025.pdf \n\nKontakt für Anmeldungen & Rückfragen\nDiakonie Hessen\nGesamtausschuss der MAVen der Diakonie Hessen (GAMAV DH)\nSekretariat Geschäftsstelle\nFrau Annika Backofen\nKölnische Straße 136\n34119 Kassel \nTelefon: 0561-1095-3030\nE-Mail: kontakt(at)gamavdh.de
URL:https://www.gamavdh.de/fortbildung/mitarbeitervertretungsrecht-mvg-iii-2/
LOCATION:Ländliche Heimvolkshochschule e.V. Mariaspring\, Rauschenwasser 78\, Bovenden\, 37120
CATEGORIES:Fortbildungen
END:VEVENT
END:VCALENDAR